BEGIN:VCALENDAR
VERSION:2.0
PRODID:-//日本折紙学会 - ECPv6.15.20//NONSGML v1.0//EN
CALSCALE:GREGORIAN
METHOD:PUBLISH
X-WR-CALNAME:日本折紙学会
X-ORIGINAL-URL:https://origami.jp
X-WR-CALDESC:日本折紙学会 のイベント
REFRESH-INTERVAL;VALUE=DURATION:PT1H
X-Robots-Tag:noindex
X-PUBLISHED-TTL:PT1H
BEGIN:VTIMEZONE
TZID:Asia/Tokyo
BEGIN:STANDARD
TZOFFSETFROM:+0900
TZOFFSETTO:+0900
TZNAME:JST
DTSTART:20250101T000000
END:STANDARD
END:VTIMEZONE
BEGIN:VEVENT
DTSTART;TZID=Asia/Tokyo:20260419T133000
DTEND;TZID=Asia/Tokyo:20260419T160000
DTSTAMP:20260421T173922
CREATED:20260403T062956Z
LAST-MODIFIED:20260403T062957Z
UID:21167-1776605400-1776614400@origami.jp
SUMMARY:折紙探偵団関西友の会4月例会
DESCRIPTION:主催\n\n\n\n\n\n\n\nオンライン参加\n\n\n\nパスポート番号とパスワードが必要です。（こちらから） \n\n\n\n現地会場参加\n\n\n\n西宮市中央公民館601・602集会室 \n\n\n\n(阪急神戸線・今津線　西宮北口南出口すぐ　プレラにしのみや内) \n\n\n\n今回は西宮での開催です。ご注意ください。 \n\n\n\n参加費：500円（中学生以下　300円） \n\n\n\n事前申し込み（4/15まで）が必要です。（こちらから） \n\n\n\n\n\n\n\n\n\nスケジュール\n\n\n\n13:40-14:30　講習 \n\n\n\n\n\n\n\n作品：フライドポテト　（難易度　★★★） \n\n\n\n講師：小橋清貴 \n\n\n\n用紙：24cm \n\n\n\n \n\n\n\n14:40-15:30　講習 \n\n\n\n\n\n\n\n作品：ハッシュドポテト　（難易度　★★） \n\n\n\n講師：小橋清貴 \n\n\n\n用紙：24cm \n\n\n\nのり要 \n\n\n\n15:40-15:55 情報交換 \n\n\n\n\n\n\n\n申し込み方法（オンライン参加の場合）\n\n\n\n以下のリンクより参加したいイベントを選び、お申し込みください。（4/17〆切） \n\n\n    \n    \n     \n    例会に申し込む（Q1パスポートが必要）    \n    \n\n\n\n※申し込みにはパスポート番号とパスワードが必要です。取得されてない場合はこちらよりご購入ください。
URL:https://origami.jp/event/21167/
CATEGORIES:主催イベント
ATTACH;FMTTYPE=image/jpeg:https://origami.jp/wp-content/uploads/202604kansai.jpg
END:VEVENT
END:VCALENDAR